BEGIN:VCALENDAR
VERSION:2.0
PRODID:-//wp-events-plugin.com//7.2.3.1//EN
TZID:Europe/London
X-WR-TIMEZONE:Europe/London
BEGIN:VEVENT
UID:121@inbristol.org
DTSTART;TZID=Europe/London:20260617T183000
DTEND;TZID=Europe/London:20260617T213000
DTSTAMP:20260317T112217Z
URL:https://inbristol.org/whatson/rebecca-edelmanns-new-plate-workshop-17-
 june/
SUMMARY:Rebecca Edelmann's NEW Plate Workshop (17 June)
DESCRIPTION:[vc_row][vc_column width="2/3"][vc_custom_heading source="post_
 title" font_container="tag:h3|text_align:left" use_theme_fonts="yes" el_cl
 ass="main_head"][vc_column_text css=""]\n\n\n\nA 3-hour workshop making tw
 o plates - 1 small plate and 1 trinket dish.\n\nYou will roll out the plat
 e\, and paint/stencil it with skulls\, or ghosts in black and white slip\,
  as well as decorate a little pre-prepared trinket dish.\n\nAfterwards\, o
 nce your plates have dried enough to be fired\, I will bisque-fire\, then 
 glaze them with a transparent glaze\, and kiln fire them a second time\, a
 nd you can then take them home!\n\n\nAge restrictions: 16+\n\n\nDate: Wedn
 esday 17 June 2023\nTime: 18:30-21:30 (3 hours)\nCost: £50 per person[/vc
 _column_text][vc_custom_heading text="Book Your Place Here!" font_containe
 r="tag:h3|text_align:left" use_theme_fonts="yes" css="" link="url:https%3A
 %2F%2Fwww.rebeccaedelmann.com%2Fshop%2Fmini-teethie-workshop-3-hour-evenin
 g-course-dx4h9|target:_blank"][/vc_column][vc_column width="1/3"][vc_singl
 e_image source="featured_image" img_size="large" alignment="center"][/vc_c
 olumn][/vc_row]
ATTACH;FMTTYPE=image/jpeg:https://inbristol.org/studiospace/wp-content/upl
 oads/2026/03/Plate-Workshop.jpg
CATEGORIES:Adult Art Classes,Ceramics,Educational,Event
LOCATION:In Bristol Studio\, Great Western Lane (entrance opposite Cotton M
 ill Lane)\, Bristol\, BS5 9BB\, United Kingdom
GEO:51.453263;-2.562267
X-APPLE-STRUCTURED-LOCATION;VALUE=URI;X-ADDRESS=Great Western Lane (entranc
 e opposite Cotton Mill Lane)\, Bristol\, BS5 9BB\, United Kingdom;X-APPLE-
 RADIUS=100;X-TITLE=In Bristol Studio:geo:51.453263,-2.562267
END:VEVENT
BEGIN:VTIMEZONE
TZID:Europe/London
X-LIC-LOCATION:Europe/London
BEGIN:DAYLIGHT
DTSTART:20260329T020000
TZOFFSETFROM:+0000
TZOFFSETTO:+0100
TZNAME:BST
END:DAYLIGHT
END:VTIMEZONE
END:VCALENDAR