BEGIN:VCALENDAR
VERSION:2.0
PRODID:-//wp-events-plugin.com//7.2.3.1//EN
TZID:Europe/London
X-WR-TIMEZONE:Europe/London
BEGIN:VEVENT
UID:122@inbristol.org
DTSTART;TZID=Europe/London:20260613T123000
DTEND;TZID=Europe/London:20260613T153000
DTSTAMP:20260402T120523Z
URL:https://inbristol.org/whatson/rebecca-edelmanns-mini-teethie-workshop-
 13-june/
SUMMARY:Rebecca Edelmann's Mini Teethie Workshop (13 June)
DESCRIPTION:[vc_row][vc_column width="2/3"][vc_custom_heading source="post_
 title" font_container="tag:h3|text_align:left" use_theme_fonts="yes" el_cl
 ass="main_head"][vc_column_text css=""]\n\n\n\nOne 3-hour workshop making 
 your very own teethie with Rebecca Edelmann.\n\nYou will be shown how to s
 hape the teethie\, give it personality\, slip paint it from a selection of
  lovely coloured slips (clay that covers the surface and is used as paint 
 to unfired ceramics).\n\nAfterwards\, once your teethie has dried for a we
 ek\, I will glaze it with a transparent glaze\, and kiln fire it\, and you
  can then take it home!\n\n\nAge restrictions: 16+\n\n\nDate: Saturday 13 
 June 2023\nTime: 12:30-15:30 (3 hours)\nCost: £50 per person[/vc_column_t
 ext][vc_custom_heading text="Book Your Place Here!" font_container="tag:h3
 |text_align:left" use_theme_fonts="yes" css="" link="url:https%3A%2F%2Fwww
 .rebeccaedelmann.com%2Fshop%2Fmini-teethie-workshop-3-hour-evening-course-
 7595k|target:_blank"][/vc_column][vc_column width="1/3"][vc_single_image s
 ource="featured_image" img_size="large" alignment="center"][/vc_column][/v
 c_row]
ATTACH;FMTTYPE=image/jpeg:https://inbristol.org/studiospace/wp-content/upl
 oads/2026/03/Mini-Teethies_2.jpg
CATEGORIES:Adult Art Classes,Ceramics,Educational,Event
LOCATION:In Bristol Studio\, Great Western Lane (entrance opposite Cotton M
 ill Lane)\, Bristol\, BS5 9BB\, United Kingdom
GEO:51.453263;-2.562267
X-APPLE-STRUCTURED-LOCATION;VALUE=URI;X-ADDRESS=Great Western Lane (entranc
 e opposite Cotton Mill Lane)\, Bristol\, BS5 9BB\, United Kingdom;X-APPLE-
 RADIUS=100;X-TITLE=In Bristol Studio:geo:51.453263,-2.562267
END:VEVENT
BEGIN:VTIMEZONE
TZID:Europe/London
X-LIC-LOCATION:Europe/London
BEGIN:DAYLIGHT
DTSTART:20260329T020000
TZOFFSETFROM:+0000
TZOFFSETTO:+0100
TZNAME:BST
END:DAYLIGHT
END:VTIMEZONE
END:VCALENDAR