BEGIN:VCALENDAR
VERSION:2.0
PRODID:-//wp-events-plugin.com//7.2.3.1//EN
TZID:Europe/London
X-WR-TIMEZONE:Europe/London
BEGIN:VEVENT
UID:118@inbristol.org
DTSTART;TZID=Europe/London:20260527T180000
DTEND;TZID=Europe/London:20260527T210000
DTSTAMP:20260317T104516Z
URL:https://inbristol.org/whatson/lizzies-embroidery-club-texture-detail-w
 orkshop-27-may/
SUMMARY:Lizzie's Embroidery Club: Texture & Detail Workshop (27 May)
DESCRIPTION:[vc_row][vc_column width="2/3"][vc_custom_heading source="post_
 title" font_container="tag:h3|text_align:left" use_theme_fonts="yes" el_cl
 ass="main_head"][vc_column_text css=""]\n\n\nTexture &amp\; Detail Worksho
 p - The "Level Up" session.  Ready to add some dimension to your stitchin
 g?\nIf you've mastered the basics and are looking for that extra something
 \, this is the workshop for you.  I'm rebranding the popular Intermediate
  Workshop\, to focus on what really matters: creating beautiful\, tactile 
 art.\nThis isn't about being perfect\, it's about adding six gorgeous new 
 stitches to your toolkit that add instant texture and professional detail.
 \nWhat's included:\n\n\n 	three hours of expert guidance in a small group 
 setting.\n 	six techniques designed to add flow and "pop" your hoops.\n\nF
 or just £30\, all the materials you need are provided\, so you can simply
  relax and enjoy the process of learning.\n\n\nAge restrictions: 16+\n\n\n
 Date: Wednesday 27 May 2026\nTime: 18:00-21:00 (3 hours)\nCost: £30 per p
 erson[/vc_column_text][vc_custom_heading text="Book Your Place Here!" font
 _container="tag:h3|text_align:left" use_theme_fonts="yes" css="" link="url
 :https%3A%2F%2Fwww.lizziesembroideryclub.co.uk%2Fservice-page%2Fbeginners-
 embroidery-in-bristol-studio|target:_blank"][/vc_column][vc_column width="
 1/3"][vc_single_image source="featured_image" img_size="large" alignment="
 center"][/vc_column][/vc_row]
ATTACH;FMTTYPE=image/jpeg:https://inbristol.org/studiospace/wp-content/upl
 oads/2026/03/Lizzies-Texture-Detail.jpg
CATEGORIES:Adult Art Classes,Educational,Event,Textiles
LOCATION:In Bristol Studio\, Great Western Lane (entrance opposite Cotton M
 ill Lane)\, Bristol\, BS5 9BB\, United Kingdom
GEO:51.453263;-2.562267
X-APPLE-STRUCTURED-LOCATION;VALUE=URI;X-ADDRESS=Great Western Lane (entranc
 e opposite Cotton Mill Lane)\, Bristol\, BS5 9BB\, United Kingdom;X-APPLE-
 RADIUS=100;X-TITLE=In Bristol Studio:geo:51.453263,-2.562267
END:VEVENT
BEGIN:VTIMEZONE
TZID:Europe/London
X-LIC-LOCATION:Europe/London
BEGIN:DAYLIGHT
DTSTART:20260329T020000
TZOFFSETFROM:+0000
TZOFFSETTO:+0100
TZNAME:BST
END:DAYLIGHT
END:VTIMEZONE
END:VCALENDAR