BEGIN:VCALENDAR
VERSION:2.0
PRODID:-//wp-events-plugin.com//7.2.3.1//EN
TZID:Europe/London
X-WR-TIMEZONE:Europe/London
BEGIN:VEVENT
UID:117@inbristol.org
DTSTART;TZID=Europe/London:20260707T180000
DTEND;TZID=Europe/London:20260707T210000
DTSTAMP:20260317T103400Z
URL:https://inbristol.org/whatson/lizzies-embroidery-club-beginners-worksh
 op-7-july/
SUMMARY:Lizzie's Embroidery Club: Beginners Workshop (7 July)
DESCRIPTION:[vc_row][vc_column width="2/3"][vc_custom_heading source="post_
 title" font_container="tag:h3|text_align:left" use_theme_fonts="yes" el_cl
 ass="main_head"][vc_column_text css=""]\n\n\nDiscover the mindful magic of
  needlework in this friendly three-hour embroidery workshop activity\, led
  by your tutor\, Lizzie. It's a wonderful opportunity to learn a calming a
 nd rewarding new skill.\nDuring the session\, Lizzie will guide you as you
  learn how to master six versatile hand embroidery stitches. Understanding
  these stitches will give your future creative projects a beautiful boost\
 , adding lovely texture and detail.\nFor just £30\, all the materials you
  need are provided\, so you can simply relax and enjoy the process of lear
 ning.\n\n\nAge restrictions: 16+\n\n\nDate: Tuesday 7 July 2026\nTime: 18:
 00-21:00 (3 hours)\nCost: £30 per person[/vc_column_text][vc_custom_headi
 ng text="Book Your Place Here!" font_container="tag:h3|text_align:left" us
 e_theme_fonts="yes" css="" link="url:https%3A%2F%2Fwww.lizziesembroiderycl
 ub.co.uk%2Fservice-page%2Fbeginners-embroidery-in-bristol-studio|target:_b
 lank"][/vc_column][vc_column width="1/3"][vc_single_image source="featured
 _image" img_size="large" alignment="center"][/vc_column][/vc_row]
ATTACH;FMTTYPE=image/jpeg:https://inbristol.org/studiospace/wp-content/upl
 oads/2026/03/Lizzies-Beginners-2.jpg
CATEGORIES:Adult Art Classes,Educational,Event,Textiles
LOCATION:In Bristol Studio\, Great Western Lane (entrance opposite Cotton M
 ill Lane)\, Bristol\, BS5 9BB\, United Kingdom
GEO:51.453263;-2.562267
X-APPLE-STRUCTURED-LOCATION;VALUE=URI;X-ADDRESS=Great Western Lane (entranc
 e opposite Cotton Mill Lane)\, Bristol\, BS5 9BB\, United Kingdom;X-APPLE-
 RADIUS=100;X-TITLE=In Bristol Studio:geo:51.453263,-2.562267
END:VEVENT
BEGIN:VTIMEZONE
TZID:Europe/London
X-LIC-LOCATION:Europe/London
BEGIN:DAYLIGHT
DTSTART:20260329T020000
TZOFFSETFROM:+0000
TZOFFSETTO:+0100
TZNAME:BST
END:DAYLIGHT
END:VTIMEZONE
END:VCALENDAR