BEGIN:VCALENDAR
VERSION:2.0
PRODID:-//wp-events-plugin.com//7.2.3.1//EN
TZID:Europe/London
X-WR-TIMEZONE:Europe/London
BEGIN:VEVENT
UID:119@inbristol.org
DTSTART;TZID=Europe/London:20260614T130000
DTEND;TZID=Europe/London:20260614T153000
DTSTAMP:20260413T075808Z
URL:https://inbristol.org/whatson/lizzies-embroidery-club-3d-sculptural-wo
 rkshop-14-june/
SUMMARY:Lizzie's Embroidery Club: Upcycle Your Wardrobe (14 June)
DESCRIPTION:[vc_row][vc_column width="2/3"][vc_custom_heading source="post_
 title" font_container="tag:h3|text_align:left" use_theme_fonts="yes" el_cl
 ass="main_head"][vc_column_text css=""]Design\, Transfer\, and Stitch\n\nD
 o you have a denim jacket that needs a glow-up?\nA plain shirt that’s la
 cking "you"?\nOr a favourite pair of jeans that needs a revamp?\n\nMoving 
 your embroidery from the hoop to your clothes is the ultimate way to creat
 e a bespoke wardrobe\, but it can be intimidating to take that first stitc
 h.\n\nThis workshop is designed to give you the confidence\, tools\, and t
 echnical skills to transform your garments into wearable art.\n\nThe "Desi
 gn &amp\; Start" Experience:\nThis 2.5-hour session is focused on the most
  important part of the process: the setup. We won’t be rushing to finish
  a whole piece\; instead\, we’ll focus on perfect placement and techniqu
 e. You will leave with your design professionally transferred onto your ga
 rment and your embroidery well underway\, equipped with the skills to fini
 sh it at your own pace.\n\nWhat we will cover:\nHow to choose the right sp
 ot for your embroidery.\nUsing water-soluble stabilisers to make stitching
  on clothing (even denim!) a breeze.\nHow to use heat-erase pens and learn
 ing suitable embroidery stitches.\nMastering the specific stitches that lo
 ok best - and last longest - on fabric.\n\nWhat’s included:\nUse of thre
 ads\, needles\, and scissors during the session.\nStick n Stitch stabilise
 r and heat-erase pens for your design.\nExpert 1-to-1 guidance from Lizzie
  on your specific project.\n\nWhat to bring:\nPlease bring one garment you
 ’d like to work on! I recommend non-stretch fabrics like denim\, heavy c
 otton\, or linen (think jackets\, jeans\, tote bags\, or button-down shirt
 s) for the best results.  Avoid t-shirts that are stretchy or silky.\n\nW
 orkshop overview:\n2.5 hours long\nAll materials included - hoops\, needle
 s\, scissors\, threads\nBring your own clothes to embroider\nAll materials
  included.\n\nAge restrictions: 16+\nDate: Sunday 14 June 2026\nTime: 13:0
 0-15.30 (2.5 hours)\nCost: £25 per person[/vc_column_text][vc_custom_head
 ing text="Book Your Place Here!" font_container="tag:h3|text_align:left" u
 se_theme_fonts="yes" css="" link="url:https%3A%2F%2Fwww.lizziesembroideryc
 lub.co.uk%2Fservice-page%2Fbeginners-embroidery-in-bristol-studio|target:_
 blank"][/vc_column][vc_column width="1/3"][vc_single_image source="feature
 d_image" img_size="large" alignment="center"][/vc_column][/vc_row]
ATTACH;FMTTYPE=image/jpeg:https://inbristol.org/studiospace/wp-content/upl
 oads/2026/03/Lizzies-3d-sculptural.jpg
CATEGORIES:Adult Art Classes,Educational,Event,Textiles
LOCATION:In Bristol Studio\, Great Western Lane (entrance opposite Cotton M
 ill Lane)\, Bristol\, BS5 9BB\, United Kingdom
GEO:51.453263;-2.562267
X-APPLE-STRUCTURED-LOCATION;VALUE=URI;X-ADDRESS=Great Western Lane (entranc
 e opposite Cotton Mill Lane)\, Bristol\, BS5 9BB\, United Kingdom;X-APPLE-
 RADIUS=100;X-TITLE=In Bristol Studio:geo:51.453263,-2.562267
END:VEVENT
BEGIN:VTIMEZONE
TZID:Europe/London
X-LIC-LOCATION:Europe/London
BEGIN:DAYLIGHT
DTSTART:20260329T020000
TZOFFSETFROM:+0000
TZOFFSETTO:+0100
TZNAME:BST
END:DAYLIGHT
END:VTIMEZONE
END:VCALENDAR