BEGIN:VCALENDAR
VERSION:2.0
PRODID:-//wp-events-plugin.com//7.2.3.1//EN
TZID:Europe/London
X-WR-TIMEZONE:Europe/London
BEGIN:VEVENT
UID:91@inbristol.org
DTSTART;TZID=Europe/London;VALUE=DATE:20240907
DTEND;TZID=Europe/London;VALUE=DATE:20240909
DTSTAMP:20241016T111257Z
URL:https://inbristol.org/whatson/bs5-open-studios/
SUMMARY:BS5 Arts Trail: In Bristol Open Studios
DESCRIPTION:[vc_row][vc_column width="2/3"][vc_custom_heading source="post_
 title" font_container="tag:h3|text_align:left" use_theme_fonts="yes" el_cl
 ass="main_head"][vc_column_text css=""]\n\n\n\nWe are an artist-led studio
  and home to over 50 artists and makers who work across multiple disciplin
 es.\n\nWe are excited to be opening our doors to visitors\, with over 15 a
 rtists and makers selling their work\, alongside running drop in workshops
  as part of the BS5 Arts Trail on Saturday 7 and Sunday 8 September 2024.\
 n\nThe following artists and makers will be taking part:\n\nAmy Grimes - I
 llustrator\nBianca Pardhy-Avis - Designer Maker\nEmma Jean Kemp - Sculptor
 \nFrancesca Zadra - Visual Artist/Sculptor\nInes Sacof - Metal Worker/Cera
 micist/Photographer\nJay Arthur Simpson - Artist/Illustrator\nJude Hutchen
  - Visual Artist\nKaren Chard - Artist/Sculptor/Ceramics\nKate Meyler - Ar
 tist/Sculptor/Ceramics\nKathryn Stevens - Artist/Painter\nKay Morgan - Lea
 ther Jewellery\nLara Bell - Multimedia Artist\nLucy Kirk - Illustrator/Cer
 amics\nNicholas Hallet - Multi-disciplinary Artist/Designer\nNina Brabbins
  - Artist/Basket Maker\nPippa Onestory - Artist/Sculptor\nRebecca Edelmann
  - Ceramics\nSophie Hyman - Artist/Model Maker\n\n\nYou can also follow us
  on Instagram and Facebook\, where we will be releasing more information c
 loser to the time.\n\n\n\n\nDate: Saturday 7 &amp\; Sunday 8 September 202
 4\nTime: 11:00-17:00\nEntry: Free[/vc_column_text][vc_custom_heading text=
 "" font_container="tag:h3|text_align:left" use_theme_fonts="yes" css="" li
 nk="url:%23"][/vc_column][vc_column width="1/3"][vc_single_image source="f
 eatured_image" img_size="large" alignment="center"][/vc_column][/vc_row]
ATTACH;FMTTYPE=image/jpeg:https://inbristol.org/studiospace/wp-content/upl
 oads/2024/05/BS5-Poster.jpg
CATEGORIES:Past Events
LOCATION:In Bristol Studio\, Great Western Lane (entrance opposite Cotton M
 ill Lane)\, Bristol\, BS5 9BB\, United Kingdom
GEO:51.453263;-2.562267
X-APPLE-STRUCTURED-LOCATION;VALUE=URI;X-ADDRESS=Great Western Lane (entranc
 e opposite Cotton Mill Lane)\, Bristol\, BS5 9BB\, United Kingdom;X-APPLE-
 RADIUS=100;X-TITLE=In Bristol Studio:geo:51.453263,-2.562267
END:VEVENT
BEGIN:VTIMEZONE
TZID:Europe/London
X-LIC-LOCATION:Europe/London
BEGIN:DAYLIGHT
DTSTART:20240331T020000
TZOFFSETFROM:+0000
TZOFFSETTO:+0100
TZNAME:BST
END:DAYLIGHT
END:VTIMEZONE
END:VCALENDAR